Workbook
Name Activities: [1]Lists!$B$2:$B$21
Name Budgetitemsactivities: [1]Lists!$E$2:$E$50
Name Budgetitemsadmin: [1]Lists!$F$2:$F$33
Name MandE: [1]Lists!$H$2:$H$3
Name Personnel: [1]Lists!$G$2:$G$33
Name UnitofMeasure: [1]Lists!$C$2:$C$21

Sheet Budget summary
B3: Budget Summary
B4: Cost Category | C4: Budget Amount | D4: %
B5: ='Detailed Budget '!D81 -> SG- Administrative Cost - Personnel | C5: ='Detailed Budget '!W88 -> 0 | D5: =IF(C8,C5/C8,0) -> 0
B6: ='Detailed Budget '!D89 -> SG- Administrative Cost - Office Running | C6: ='Detailed Budget '!W102 -> 0 | D6: =IF(C8,C6/C8,0) -> 0
B7: ='Detailed Budget '!B10 -> SG-Direct Implementation Cost - Activities | C7: ='Detailed Budget '!W79 -> 0 | D7: =IF(C8,C7/C8,0) -> 0
B8: Total Amount | C8: =SUM(C5:C7) -> 0 | D8: =IF(C8,C8/C8,0) -> 0

Sheet Detailed Budget 
B1: Country: | C1: Kenya
B2: Project Title: | C2: SUPREME Lifelines Kenya
B3: Intervention: | C3: XXX
B4: Implementer: | C4: Sub-Grantee Name | I4: BUDGET TEMPLATE
B5: Target County: | C5: XXX
B6: Grant Period: | C6: 1 November 2026 - 31st October 2027
B8: Activity Code | C8: EXPENDITURE DESCRIPTION/ACTIVITY | D8: Outcome Area | E8: Unit of Measure | F8: No. of Units | G8: Frequency | H8: Unit Rate (Kshs) | I8: No. of Sessions | J8: Total Costs | W8: Totals
K9: 46327 | L9: 46357 | M9: 46388 | N9: 46419 | O9: 46447 | P9: 46478 | Q9: 46508 | R9: 46539 | S9: 46569 | T9: 46600 | U9: 46631 | V9: 46661
B10: SG-Direct Implementation Cost - Activities
C11: Activity 1 : XXXX | D11: Outcome 1
F12: 1 | G12: 1 | H12: 1 | I12: 1 | J12: =I12*H12*G12*F12 -> 1 | W12: =SUM(K12:V12) -> 0
F13: 1 | G13: 1 | H13: 1 | I13: 1 | J13: =I13*H13*G13*F13 -> 1 | W13: =SUM(K13:V13) -> 0
F14: 1 | G14: 1 | H14: 1 | I14: 1 | J14: =I14*H14*G14*F14 -> 1 | W14: =SUM(K14:V14) -> 0
F15: 1 | G15: 1 | H15: 1 | I15: 1 | J15: =I15*H15*G15*F15 -> 1 | W15: =SUM(K15:V15) -> 0
F16: 1 | G16: 1 | H16: 1 | I16: 1 | J16: =I16*H16*G16*F16 -> 1 | W16: =SUM(K16:V16) -> 0
C17: Sub-Total | J17: =SUM(J15:J16) -> 2 | K17: =SUM(K12:K16) -> 0 | L17: =SUM(L12:L16) -> 0 | M17: =SUM(M12:M16) -> 0 | N17: =SUM(N12:N16) -> 0 | O17: =SUM(O12:O16) -> 0 | P17: =SUM(P12:P16) -> 0 | Q17: =SUM(Q12:Q16) -> 0 | R17: =SUM(R12:R16) -> 0 | ... W17: =SUM(W12:W16) -> 0
C18: Activity 2 : XXXX | D18: Outcome 2 | W18: =SUM(K18:V18) -> 0
F19: 1 | G19: 1 | H19: 1 | I19: 1 | J19: =I19*H19*G19*F19 -> 1 | W19: =SUM(K19:V19) -> 0
F20: 1 | G20: 1 | H20: 1 | I20: 1 | J20: =I20*H20*G20*F20 -> 1 | W20: =SUM(K20:V20) -> 0
F21: 1 | G21: 1 | H21: 1 | I21: 1 | J21: =I21*H21*G21*F21 -> 1 | W21: =SUM(K21:V21) -> 0
F22: 1 | G22: 1 | H22: 1 | I22: 1 | J22: =F22*G22*H22*I22 -> 1 | W22: =SUM(K22:V22) -> 0
J23: =F23*G23*H23*I23 -> 0 | W23: =SUM(K23:V23) -> 0
C24: Sub-Total | J24: =SUM(J22:J23) -> 1 | K24: =SUM(K18:K23) -> 0 | L24: =SUM(L18:L23) -> 0 | M24: =SUM(M18:M23) -> 0 | N24: =SUM(N18:N23) -> 0 | O24: =SUM(O18:O23) -> 0 | P24: =SUM(P18:P23) -> 0 | Q24: =SUM(Q18:Q23) -> 0 | R24: =SUM(R18:R23) -> 0 | ... W24: =SUM(W18:W23) -> 0
C25: Activity 3 : XXXX | D25: Outcome 3 | J25: =F25*G25*H25*I25 -> 0 | W25: =SUM(K25:V25) -> 0
F26: 1 | G26: 1 | H26: 1 | I26: 1 | J26: =F26*G26*H26*I26 -> 1 | W26: =SUM(K26:V26) -> 0
F27: 1 | G27: 1 | H27: 1 | I27: 1 | J27: =F27*G27*H27*I27 -> 1 | W27: =SUM(K27:V27) -> 0
F28: 1 | G28: 1 | H28: 1 | I28: 1 | J28: =F28*G28*H28*I28 -> 1 | W28: =SUM(K28:V28) -> 0
F29: 1 | G29: 1 | H29: 1 | I29: 1 | J29: =F29*G29*H29*I29 -> 1 | W29: =SUM(K29:V29) -> 0
F30: 1 | G30: 1 | H30: 1 | I30: 1 | J30: =F30*G30*H30*I30 -> 1 | W30: =SUM(K30:V30) -> 0
F31: 1 | G31: 1 | H31: 1 | I31: 1 | J31: =F31*G31*H31*I31 -> 1 | W31: =SUM(K31:V31) -> 0
F32: 1 | G32: 1 | H32: 1 | I32: 1 | J32: =F32*G32*H32*I32 -> 1 | W32: =SUM(K32:V32) -> 0
F33: 1 | G33: 1 | H33: 1 | I33: 1 | J33: =F33*G33*H33*I33 -> 1 | W33: =SUM(K33:V33) -> 0
F34: 1 | G34: 1 | H34: 1 | I34: 1 | J34: =F34*G34*H34*I34 -> 1 | W34: =SUM(K34:V34) -> 0
F35: 1 | G35: 1 | H35: 1 | I35: 1 | J35: =F35*G35*H35*I35 -> 1 | W35: =SUM(K35:V35) -> 0
C36: Sub-Total | J36: =SUM(J26:J35) -> 10 | K36: =SUM(K25:K35) -> 0 | L36: =SUM(L25:L35) -> 0 | M36: =SUM(M25:M35) -> 0 | N36: =SUM(N25:N35) -> 0 | O36: =SUM(O25:O35) -> 0 | P36: =SUM(P25:P35) -> 0 | Q36: =SUM(Q25:Q35) -> 0 | R36: =SUM(R25:R35) -> 0 | ... W36: =SUM(W25:W35) -> 0
C37: Activity 4 : XXXX | D37: Outcome 4 | W37: =SUM(K37:V37) -> 0
F38: 1 | G38: 1 | H38: 1 | I38: 1 | J38: =F38*G38*H38*I38 -> 1 | W38: =SUM(K38:V38) -> 0
F39: 1 | G39: 1 | H39: 1 | I39: 1 | J39: =F39*G39*H39*I39 -> 1 | W39: =SUM(K39:V39) -> 0
F40: 1 | G40: 1 | H40: 1 | I40: 1 | J40: =F40*G40*H40*I40 -> 1 | W40: =SUM(K40:V40) -> 0
F41: 1 | G41: 1 | H41: 1 | I41: 1 | J41: =F41*G41*H41*I41 -> 1 | W41: =SUM(K41:V41) -> 0
...

Sheet Project Outcomes 
B1: Project Outcomes
B2: Outcome 1: Community Awareness, Health Literacy and Demand Creation
B3: Outcome 2: Community Identification, Referral and Continuity of Care
B4: Outcome 3: Community Participation, Partnerships and Male Engagement
B5: Outcome 4: Gender- and Climate-Responsive Community Engagement
B6: Outcome 5: Accountability, Learning and Adaptive Programming
